BEGIN:VCALENDAR
VERSION:2.0
PRODID:-//Schützenverein St. Hubertus Sodingen-Börnig 1926 e.V. - ECPv5.16.1.1//NONSGML v1.0//EN
CALSCALE:GREGORIAN
METHOD:PUBLISH
X-WR-CALNAME:Schützenverein St. Hubertus Sodingen-Börnig 1926 e.V.
X-ORIGINAL-URL:https://www.st-hubertus-herne.de
X-WR-CALDESC:Veranstaltungen für Schützenverein St. Hubertus Sodingen-Börnig 1926 e.V.
BEGIN:VTIMEZONE
TZID:Europe/Berlin
BEGIN:DAYLIGHT
TZOFFSETFROM:+0100
TZOFFSETTO:+0200
TZNAME:CEST
DTSTART:20190331T010000
END:DAYLIGHT
BEGIN:STANDARD
TZOFFSETFROM:+0200
TZOFFSETTO:+0100
TZNAME:CET
DTSTART:20191027T010000
END:STANDARD
END:VTIMEZONE
BEGIN:VEVENT
DTSTART;VALUE=DATE:20190518
DTEND;VALUE=DATE:20190520
DTSTAMP:20260425T052122
CREATED:20190409T215954Z
LAST-MODIFIED:20190409T221539Z
UID:492-1558155600-1558241999@www.st-hubertus-herne.de
SUMMARY:Winny-Cup mit Lichtgewehr
DESCRIPTION:Schießen für die ganz Kleinen!
URL:https://www.st-hubertus-herne.de/event/winny-cup-mit-lichtgewehr/
LOCATION:LLZ Dortmund\, Eberstraße 30\, Dortmund\, 44145
CATEGORIES:Jugend,Sport
ATTACH;FMTTYPE=image/jpeg:https://www.st-hubertus-herne.de/wordpress/wp-content/uploads/bilder/termine/wsb_logo.jpg
END:VEVENT
END:VCALENDAR