BEGIN:VCALENDAR
VERSION:2.0
PRODID:-//Schützenverein St. Hubertus Sodingen-Börnig 1926 e.V. - ECPv5.16.1.1//NONSGML v1.0//EN
CALSCALE:GREGORIAN
METHOD:PUBLISH
X-WR-CALNAME:Schützenverein St. Hubertus Sodingen-Börnig 1926 e.V.
X-ORIGINAL-URL:https://www.st-hubertus-herne.de
X-WR-CALDESC:Veranstaltungen für Schützenverein St. Hubertus Sodingen-Börnig 1926 e.V.
BEGIN:VTIMEZONE
TZID:Europe/Berlin
BEGIN:DAYLIGHT
TZOFFSETFROM:+0100
TZOFFSETTO:+0200
TZNAME:CEST
DTSTART:20190331T010000
END:DAYLIGHT
BEGIN:STANDARD
TZOFFSETFROM:+0200
TZOFFSETTO:+0100
TZNAME:CET
DTSTART:20191027T010000
END:STANDARD
END:VTIMEZONE
BEGIN:VEVENT
DTSTART;TZID=Europe/Berlin:20191207T180000
DTEND;TZID=Europe/Berlin:20191207T180000
DTSTAMP:20260424T150112
CREATED:20191117T190500Z
LAST-MODIFIED:20191117T190919Z
UID:2120-1575741600-1575741600@www.st-hubertus-herne.de
SUMMARY:Weihnachtsfeier
DESCRIPTION:Gemeinsame Weihnachtsfeier der Vereinsgemeinschaft im Vereinsheim des BSV Holthausen \n  \n\nSV St. Hubertus\nBSV Holthausen\nMusikkorps Herne
URL:https://www.st-hubertus-herne.de/event/weihnachtsfeier/
LOCATION:Vereinsheim des BSV Holthausen\, Holthauser Straße 288\, Herne\, 44627
CATEGORIES:Jugend,Tradition
END:VEVENT
END:VCALENDAR