BEGIN:VCALENDAR
VERSION:2.0
PRODID:-//Schützenverein St. Hubertus Sodingen-Börnig 1926 e.V. - ECPv5.16.1.1//NONSGML v1.0//EN
CALSCALE:GREGORIAN
METHOD:PUBLISH
X-WR-CALNAME:Schützenverein St. Hubertus Sodingen-Börnig 1926 e.V.
X-ORIGINAL-URL:https://www.st-hubertus-herne.de
X-WR-CALDESC:Veranstaltungen für Schützenverein St. Hubertus Sodingen-Börnig 1926 e.V.
BEGIN:VTIMEZONE
TZID:Europe/Berlin
BEGIN:DAYLIGHT
TZOFFSETFROM:+0100
TZOFFSETTO:+0200
TZNAME:CEST
DTSTART:20230326T010000
END:DAYLIGHT
BEGIN:STANDARD
TZOFFSETFROM:+0200
TZOFFSETTO:+0100
TZNAME:CET
DTSTART:20231029T010000
END:STANDARD
END:VTIMEZONE
BEGIN:VEVENT
DTSTART;TZID=Europe/Berlin:20230812T110000
DTEND;TZID=Europe/Berlin:20230812T110000
DTSTAMP:20260424T193017
CREATED:20230620T202040Z
LAST-MODIFIED:20230807T234216Z
UID:2550-1691838000-1691838000@www.st-hubertus-herne.de
SUMMARY:Vogelschießen
DESCRIPTION:Weitere Informationen zum Vogelschießen: HIER
URL:https://www.st-hubertus-herne.de/event/vogelschiessen/
LOCATION:Vereinsheim des BSV Holthausen\, Holthauser Straße 288\, Herne\, 44627
CATEGORIES:Schützenfest,Tradition,Vogelschießen
ATTACH;FMTTYPE=image/png:https://www.st-hubertus-herne.de/wordpress/wp-content/uploads/bilder/termine/hubertus_logo.png
END:VEVENT
END:VCALENDAR