BEGIN:VCALENDAR
VERSION:2.0
PRODID:-//Schützenverein St. Hubertus Sodingen-Börnig 1926 e.V. - ECPv5.16.1.1//NONSGML v1.0//EN
CALSCALE:GREGORIAN
METHOD:PUBLISH
X-WR-CALNAME:Schützenverein St. Hubertus Sodingen-Börnig 1926 e.V.
X-ORIGINAL-URL:https://www.st-hubertus-herne.de
X-WR-CALDESC:Veranstaltungen für Schützenverein St. Hubertus Sodingen-Börnig 1926 e.V.
BEGIN:VTIMEZONE
TZID:Europe/Berlin
BEGIN:DAYLIGHT
TZOFFSETFROM:+0100
TZOFFSETTO:+0200
TZNAME:CEST
DTSTART:20190331T010000
END:DAYLIGHT
BEGIN:STANDARD
TZOFFSETFROM:+0200
TZOFFSETTO:+0100
TZNAME:CET
DTSTART:20191027T010000
END:STANDARD
END:VTIMEZONE
BEGIN:VEVENT
DTSTART;TZID=Europe/Berlin:20190530T100000
DTEND;TZID=Europe/Berlin:20190530T100000
DTSTAMP:20260425T052142
CREATED:20190531T215834Z
LAST-MODIFIED:20190531T215834Z
UID:1436-1559210400-1559210400@www.st-hubertus-herne.de
SUMMARY:Vatertags-Tour 2019
DESCRIPTION:Wandertour der Vereine St. Hubertus und BSV Holthausen mit anschließendem gemütlichen Beisammensein am Vereinsheim. \nTreffen zur Wandertour\nGewerkenstraße 2\, 44628 Herne\n10 Uhr \nTreffen zum gemütlichen Teil\nVereinsheim des BSV Holthausen\n14 Uhr
URL:https://www.st-hubertus-herne.de/event/vatertags-tour-2019/
LOCATION:Vereinsheim des BSV Holthausen\, Holthauser Straße 288\, Herne\, 44627
END:VEVENT
END:VCALENDAR