BEGIN:VCALENDAR
VERSION:2.0
PRODID:-//Schützenverein St. Hubertus Sodingen-Börnig 1926 e.V. - ECPv5.16.1.1//NONSGML v1.0//EN
CALSCALE:GREGORIAN
METHOD:PUBLISH
X-WR-CALNAME:Schützenverein St. Hubertus Sodingen-Börnig 1926 e.V.
X-ORIGINAL-URL:https://www.st-hubertus-herne.de
X-WR-CALDESC:Veranstaltungen für Schützenverein St. Hubertus Sodingen-Börnig 1926 e.V.
BEGIN:VTIMEZONE
TZID:Europe/Berlin
BEGIN:DAYLIGHT
TZOFFSETFROM:+0100
TZOFFSETTO:+0200
TZNAME:CEST
DTSTART:20230326T010000
END:DAYLIGHT
BEGIN:STANDARD
TZOFFSETFROM:+0200
TZOFFSETTO:+0100
TZNAME:CET
DTSTART:20231029T010000
END:STANDARD
END:VTIMEZONE
BEGIN:VEVENT
DTSTART;TZID=Europe/Berlin:20230709T110000
DTEND;TZID=Europe/Berlin:20230709T110000
DTSTAMP:20260424T210035
CREATED:20230620T200958Z
LAST-MODIFIED:20230620T201014Z
UID:2548-1688900400-1688900400@www.st-hubertus-herne.de
SUMMARY:Tag der Traditionsvereine
DESCRIPTION:Am 09.07.2023 präsentieren sich verschiedene Herner Vereine\, um zu zeigen\, dass Tradition in Herne noch groß geschrieben wird. Und das nicht nur\, weil es ein Nomen ist 😉 Wir sind natürlich auch mit dabei.
URL:https://www.st-hubertus-herne.de/event/tag-der-traditionsvereine/
LOCATION:Vereinsheim des BSV Holthausen\, Holthauser Straße 288\, Herne\, 44627
CATEGORIES:Tradition
ATTACH;FMTTYPE=image/png:https://www.st-hubertus-herne.de/wordpress/wp-content/uploads/bilder/links/stadt_herne_logo.png
END:VEVENT
END:VCALENDAR