BEGIN:VCALENDAR
VERSION:2.0
PRODID:-//Schützenverein St. Hubertus Sodingen-Börnig 1926 e.V. - ECPv5.16.1.1//NONSGML v1.0//EN
CALSCALE:GREGORIAN
METHOD:PUBLISH
X-WR-CALNAME:Schützenverein St. Hubertus Sodingen-Börnig 1926 e.V.
X-ORIGINAL-URL:https://www.st-hubertus-herne.de
X-WR-CALDESC:Veranstaltungen für Schützenverein St. Hubertus Sodingen-Börnig 1926 e.V.
BEGIN:VTIMEZONE
TZID:Europe/Berlin
BEGIN:DAYLIGHT
TZOFFSETFROM:+0100
TZOFFSETTO:+0200
TZNAME:CEST
DTSTART:20240331T010000
END:DAYLIGHT
BEGIN:STANDARD
TZOFFSETFROM:+0200
TZOFFSETTO:+0100
TZNAME:CET
DTSTART:20241027T010000
END:STANDARD
END:VTIMEZONE
BEGIN:VEVENT
DTSTART;TZID=Europe/Berlin:20241027T170000
DTEND;TZID=Europe/Berlin:20241027T170000
DTSTAMP:20260424T180716
CREATED:20231130T063111Z
LAST-MODIFIED:20240927T082753Z
UID:2714-1730048400-1730048400@www.st-hubertus-herne.de
SUMMARY:Siegerehrung Pokalschießen Hiltrop
DESCRIPTION:
URL:https://www.st-hubertus-herne.de/event/siegerehrung-pokalschiessen-hiltrop/
LOCATION:Vereinsheim des BSV Holthausen\, Holthauser Straße 288\, Herne\, 44627
CATEGORIES:Pokalschießen,Sport
END:VEVENT
END:VCALENDAR