BEGIN:VCALENDAR
VERSION:2.0
PRODID:-//Schützenverein St. Hubertus Sodingen-Börnig 1926 e.V. - ECPv5.16.1.1//NONSGML v1.0//EN
CALSCALE:GREGORIAN
METHOD:PUBLISH
X-WR-CALNAME:Schützenverein St. Hubertus Sodingen-Börnig 1926 e.V.
X-ORIGINAL-URL:https://www.st-hubertus-herne.de
X-WR-CALDESC:Veranstaltungen für Schützenverein St. Hubertus Sodingen-Börnig 1926 e.V.
BEGIN:VTIMEZONE
TZID:Europe/Berlin
BEGIN:DAYLIGHT
TZOFFSETFROM:+0100
TZOFFSETTO:+0200
TZNAME:CEST
DTSTART:20200329T010000
END:DAYLIGHT
BEGIN:STANDARD
TZOFFSETFROM:+0200
TZOFFSETTO:+0100
TZNAME:CET
DTSTART:20201025T010000
END:STANDARD
END:VTIMEZONE
BEGIN:VEVENT
DTSTART;VALUE=DATE:20200426
DTEND;VALUE=DATE:20200428
DTSTAMP:20260424T235813
CREATED:20200106T214727Z
LAST-MODIFIED:20200329T105333Z
UID:2188-1587877200-1587963599@www.st-hubertus-herne.de
SUMMARY:Abgesagt - Landesmeisterschaft 2020 - LG
DESCRIPTION:Landesmeisterschaft 2020 – LG\nStartzeiten folgen.
URL:https://www.st-hubertus-herne.de/event/landesmeisterschaft-2020-lg/
LOCATION:LLZ Dortmund\, Eberstraße 30\, Dortmund\, 44145
CATEGORIES:Meisterschaft,Sport
ATTACH;FMTTYPE=image/jpeg:https://www.st-hubertus-herne.de/wordpress/wp-content/uploads/bilder/termine/wsb_logo.jpg
END:VEVENT
END:VCALENDAR