BEGIN:VCALENDAR
VERSION:2.0
PRODID:-//Schützenverein St. Hubertus Sodingen-Börnig 1926 e.V. - ECPv5.16.1.1//NONSGML v1.0//EN
CALSCALE:GREGORIAN
METHOD:PUBLISH
X-WR-CALNAME:Schützenverein St. Hubertus Sodingen-Börnig 1926 e.V.
X-ORIGINAL-URL:https://www.st-hubertus-herne.de
X-WR-CALDESC:Veranstaltungen für Schützenverein St. Hubertus Sodingen-Börnig 1926 e.V.
BEGIN:VTIMEZONE
TZID:Europe/Berlin
BEGIN:DAYLIGHT
TZOFFSETFROM:+0100
TZOFFSETTO:+0200
TZNAME:CEST
DTSTART:20200329T010000
END:DAYLIGHT
BEGIN:STANDARD
TZOFFSETFROM:+0200
TZOFFSETTO:+0100
TZNAME:CET
DTSTART:20201025T010000
END:STANDARD
END:VTIMEZONE
BEGIN:VEVENT
DTSTART;VALUE=DATE:20200905
DTEND;VALUE=DATE:20200907
DTSTAMP:20260425T000259
CREATED:20200106T221733Z
LAST-MODIFIED:20201009T172345Z
UID:2204-1599282000-1599368399@www.st-hubertus-herne.de
SUMMARY:Abgesagt - Krönungsball Habinghorst
DESCRIPTION:
URL:https://www.st-hubertus-herne.de/event/kroenungsball-habinghorst/
LOCATION:Tanzpalast Mythos\, Borghagener Straße 19\, Castrop-Rauxel\, 44581
CATEGORIES:Krönungsball,Schützenfest,Tradition
ATTACH;FMTTYPE=image/png:https://www.st-hubertus-herne.de/wordpress/wp-content/uploads/bilder/termine/habinghorst_logo.png
END:VEVENT
END:VCALENDAR