BEGIN:VCALENDAR
VERSION:2.0
PRODID:-//Schützenverein St. Hubertus Sodingen-Börnig 1926 e.V. - ECPv5.16.1.1//NONSGML v1.0//EN
CALSCALE:GREGORIAN
METHOD:PUBLISH
X-WR-CALNAME:Schützenverein St. Hubertus Sodingen-Börnig 1926 e.V.
X-ORIGINAL-URL:https://www.st-hubertus-herne.de
X-WR-CALDESC:Veranstaltungen für Schützenverein St. Hubertus Sodingen-Börnig 1926 e.V.
BEGIN:VTIMEZONE
TZID:Europe/Berlin
BEGIN:DAYLIGHT
TZOFFSETFROM:+0100
TZOFFSETTO:+0200
TZNAME:CEST
DTSTART:20190331T010000
END:DAYLIGHT
BEGIN:STANDARD
TZOFFSETFROM:+0200
TZOFFSETTO:+0100
TZNAME:CET
DTSTART:20191027T010000
END:STANDARD
END:VTIMEZONE
BEGIN:VEVENT
DTSTART;TZID=Europe/Berlin:20190504T180000
DTEND;TZID=Europe/Berlin:20190504T235900
DTSTAMP:20260425T054527
CREATED:20190409T201817Z
LAST-MODIFIED:20190409T202554Z
UID:468-1556992800-1557014340@www.st-hubertus-herne.de
SUMMARY:Krönungsball BSV Obercastrop
DESCRIPTION:Treffen\nFolgt. \n  \nProgramm\n\n18:00 Uhr\n\nEmpfang der Majestäten\n\n\n19:00 Uhr\n\nEinmarsch der Königsgesellschaften\nInthronisierung der neuen Majestäten\n\n\nAnschließend\n\nKrönungsball\n\n\n\n  \nTanz und Unterhaltung\nmit der Coverband „The Tweens“ und Sänger „Michael Wurst“
URL:https://www.st-hubertus-herne.de/event/kroenungsball-bsv-obercastrop/
LOCATION:Hof Kirchhelle\, Bochumer Straße 62\, Castrop-Rauxel\, 44575
CATEGORIES:Krönungsball,Schützenfest,Tradition
END:VEVENT
END:VCALENDAR