BEGIN:VCALENDAR
VERSION:2.0
PRODID:-//Schützenverein St. Hubertus Sodingen-Börnig 1926 e.V. - ECPv5.16.1.1//NONSGML v1.0//EN
CALSCALE:GREGORIAN
METHOD:PUBLISH
X-WR-CALNAME:Schützenverein St. Hubertus Sodingen-Börnig 1926 e.V.
X-ORIGINAL-URL:https://www.st-hubertus-herne.de
X-WR-CALDESC:Veranstaltungen für Schützenverein St. Hubertus Sodingen-Börnig 1926 e.V.
BEGIN:VTIMEZONE
TZID:Europe/Berlin
BEGIN:DAYLIGHT
TZOFFSETFROM:+0100
TZOFFSETTO:+0200
TZNAME:CEST
DTSTART:20190331T010000
END:DAYLIGHT
BEGIN:STANDARD
TZOFFSETFROM:+0200
TZOFFSETTO:+0100
TZNAME:CET
DTSTART:20191027T010000
END:STANDARD
END:VTIMEZONE
BEGIN:VEVENT
DTSTART;TZID=Europe/Berlin:20190831T180000
DTEND;TZID=Europe/Berlin:20190831T180000
DTSTAMP:20260425T045546
CREATED:20190616T132339Z
LAST-MODIFIED:20190824T122447Z
UID:1474-1567274400-1567274400@www.st-hubertus-herne.de
SUMMARY:Krönungsball BSV Kirchlinde
DESCRIPTION:Mit Liveband ! \nEinlass 18.00 Uhr\nBeginn 19.00 Uhr \nEintritt 7 €
URL:https://www.st-hubertus-herne.de/event/kroenungsball-bsv-kirchlinde/
LOCATION:BSV Kirchlinde\, Bärenbruch 122\, Dortmund\, 44379
CATEGORIES:Krönungsball,Schützenfest,Tradition
ATTACH;FMTTYPE=image/png:https://www.st-hubertus-herne.de/wordpress/wp-content/uploads/bilder/termine/kirchlinde_logo.png
END:VEVENT
END:VCALENDAR