BEGIN:VCALENDAR
VERSION:2.0
PRODID:-//Schützenverein St. Hubertus Sodingen-Börnig 1926 e.V. - ECPv5.16.1.1//NONSGML v1.0//EN
CALSCALE:GREGORIAN
METHOD:PUBLISH
X-WR-CALNAME:Schützenverein St. Hubertus Sodingen-Börnig 1926 e.V.
X-ORIGINAL-URL:https://www.st-hubertus-herne.de
X-WR-CALDESC:Veranstaltungen für Schützenverein St. Hubertus Sodingen-Börnig 1926 e.V.
BEGIN:VTIMEZONE
TZID:Europe/Berlin
BEGIN:DAYLIGHT
TZOFFSETFROM:+0100
TZOFFSETTO:+0200
TZNAME:CEST
DTSTART:20190331T010000
END:DAYLIGHT
BEGIN:STANDARD
TZOFFSETFROM:+0200
TZOFFSETTO:+0100
TZNAME:CET
DTSTART:20191027T010000
END:STANDARD
END:VTIMEZONE
BEGIN:VEVENT
DTSTART;VALUE=DATE:20191103
DTEND;VALUE=DATE:20191105
DTSTAMP:20260424T180557
CREATED:20190616T132801Z
LAST-MODIFIED:20190921T092759Z
UID:1481-1572757200-1572843599@www.st-hubertus-herne.de
SUMMARY:Kreismeisterschaft Herne
DESCRIPTION:
URL:https://www.st-hubertus-herne.de/event/kreismeisterschaft-herne/
LOCATION:Sportpark Herne-Wanne\, Im Sportpark 20\, Herne\, 44652
CATEGORIES:Meisterschaft
ATTACH;FMTTYPE=image/png:https://www.st-hubertus-herne.de/wordpress/wp-content/uploads/bilder/termine/sk_herne_logo.png
END:VEVENT
END:VCALENDAR