BEGIN:VCALENDAR
VERSION:2.0
PRODID:-//Schützenverein St. Hubertus Sodingen-Börnig 1926 e.V. - ECPv5.16.1.1//NONSGML v1.0//EN
CALSCALE:GREGORIAN
METHOD:PUBLISH
X-WR-CALNAME:Schützenverein St. Hubertus Sodingen-Börnig 1926 e.V.
X-ORIGINAL-URL:https://www.st-hubertus-herne.de
X-WR-CALDESC:Veranstaltungen für Schützenverein St. Hubertus Sodingen-Börnig 1926 e.V.
BEGIN:VTIMEZONE
TZID:Europe/Berlin
BEGIN:DAYLIGHT
TZOFFSETFROM:+0100
TZOFFSETTO:+0200
TZNAME:CEST
DTSTART:20250330T010000
END:DAYLIGHT
BEGIN:STANDARD
TZOFFSETFROM:+0200
TZOFFSETTO:+0100
TZNAME:CET
DTSTART:20251026T010000
END:STANDARD
END:VTIMEZONE
BEGIN:VEVENT
DTSTART;VALUE=DATE:20250906
DTEND;VALUE=DATE:20250908
DTSTAMP:20260424T150441
CREATED:20250709T073849Z
LAST-MODIFIED:20250709T073959Z
UID:4539-1757134800-1757221199@www.st-hubertus-herne.de
SUMMARY:Königsschießen Bürgerschützen-Verein Kirchlinde 1896 e.V.
DESCRIPTION:
URL:https://www.st-hubertus-herne.de/event/koenigsschiessen-buergerschuetzen-verein-kirchlinde-1896-e-v/
LOCATION:BSV Kirchlinde\, Bärenbruch 122\, Dortmund\, 44379
CATEGORIES:Schützenfest,Tradition,Vogelschießen
END:VEVENT
END:VCALENDAR