BEGIN:VCALENDAR
VERSION:2.0
PRODID:-//Schützenverein St. Hubertus Sodingen-Börnig 1926 e.V. - ECPv5.16.1.1//NONSGML v1.0//EN
CALSCALE:GREGORIAN
METHOD:PUBLISH
X-WR-CALNAME:Schützenverein St. Hubertus Sodingen-Börnig 1926 e.V.
X-ORIGINAL-URL:https://www.st-hubertus-herne.de
X-WR-CALDESC:Veranstaltungen für Schützenverein St. Hubertus Sodingen-Börnig 1926 e.V.
BEGIN:VTIMEZONE
TZID:Europe/Berlin
BEGIN:DAYLIGHT
TZOFFSETFROM:+0100
TZOFFSETTO:+0200
TZNAME:CEST
DTSTART:20190331T010000
END:DAYLIGHT
BEGIN:STANDARD
TZOFFSETFROM:+0200
TZOFFSETTO:+0100
TZNAME:CET
DTSTART:20191027T010000
END:STANDARD
END:VTIMEZONE
BEGIN:VEVENT
DTSTART;TZID=Europe/Berlin:20190907T190000
DTEND;TZID=Europe/Berlin:20190907T190000
DTSTAMP:20260425T020212
CREATED:20190616T132515Z
LAST-MODIFIED:20190824T122926Z
UID:1476-1567882800-1567882800@www.st-hubertus-herne.de
SUMMARY:Königsball und 130 Jahre Schützengilde Habinghorst
DESCRIPTION:Einlass 19.00 Uhr\nBeginn 20.00 Uhr \nEintritt 6 €
URL:https://www.st-hubertus-herne.de/event/koenigsball-und-150-jahre-schuetzengilde-habinghorst/
LOCATION:Tanzpalast Mythos\, Borghagener Straße 19\, Castrop-Rauxel\, 44581
CATEGORIES:Königsball,Tradition
ATTACH;FMTTYPE=image/png:https://www.st-hubertus-herne.de/wordpress/wp-content/uploads/bilder/termine/habinghorst_logo.png
END:VEVENT
END:VCALENDAR