BEGIN:VCALENDAR
VERSION:2.0
PRODID:-//Schützenverein St. Hubertus Sodingen-Börnig 1926 e.V. - ECPv5.16.1.1//NONSGML v1.0//EN
CALSCALE:GREGORIAN
METHOD:PUBLISH
X-WR-CALNAME:Schützenverein St. Hubertus Sodingen-Börnig 1926 e.V.
X-ORIGINAL-URL:https://www.st-hubertus-herne.de
X-WR-CALDESC:Veranstaltungen für Schützenverein St. Hubertus Sodingen-Börnig 1926 e.V.
BEGIN:VTIMEZONE
TZID:Europe/Berlin
BEGIN:DAYLIGHT
TZOFFSETFROM:+0100
TZOFFSETTO:+0200
TZNAME:CEST
DTSTART:20230326T010000
END:DAYLIGHT
BEGIN:STANDARD
TZOFFSETFROM:+0200
TZOFFSETTO:+0100
TZNAME:CET
DTSTART:20231029T010000
END:STANDARD
END:VTIMEZONE
BEGIN:VEVENT
DTSTART;TZID=Europe/Berlin:20231007T180000
DTEND;TZID=Europe/Berlin:20231007T180000
DTSTAMP:20260424T180459
CREATED:20230919T101054Z
LAST-MODIFIED:20230919T101748Z
UID:2681-1696701600-1696701600@www.st-hubertus-herne.de
SUMMARY:Königsball BSV Obercastrop
DESCRIPTION:Ab 18 Uhr Empfang der Majestäten\, um 19 Uhr Einmarsch der Königsgesellschaften.
URL:https://www.st-hubertus-herne.de/event/koenigsball-bsv-obercastrop/
LOCATION:Tanzpalast Mythos\, Borghagener Straße 19\, Castrop-Rauxel\, 44581
CATEGORIES:Königsball,Tradition
END:VEVENT
END:VCALENDAR