BEGIN:VCALENDAR
VERSION:2.0
PRODID:-//Schützenverein St. Hubertus Sodingen-Börnig 1926 e.V. - ECPv5.16.1.1//NONSGML v1.0//EN
CALSCALE:GREGORIAN
METHOD:PUBLISH
X-WR-CALNAME:Schützenverein St. Hubertus Sodingen-Börnig 1926 e.V.
X-ORIGINAL-URL:https://www.st-hubertus-herne.de
X-WR-CALDESC:Veranstaltungen für Schützenverein St. Hubertus Sodingen-Börnig 1926 e.V.
BEGIN:VTIMEZONE
TZID:Europe/Berlin
BEGIN:DAYLIGHT
TZOFFSETFROM:+0100
TZOFFSETTO:+0200
TZNAME:CEST
DTSTART:20190331T010000
END:DAYLIGHT
BEGIN:STANDARD
TZOFFSETFROM:+0200
TZOFFSETTO:+0100
TZNAME:CET
DTSTART:20191027T010000
END:STANDARD
END:VTIMEZONE
BEGIN:VEVENT
DTSTART;TZID=Europe/Berlin:20190824T183000
DTEND;TZID=Europe/Berlin:20190824T183000
DTSTAMP:20260425T035021
CREATED:20190617T091009Z
LAST-MODIFIED:20190824T122634Z
UID:1507-1566671400-1566671400@www.st-hubertus-herne.de
SUMMARY:Königsball BSV Bochum-Gerthe
DESCRIPTION:Achtung: Karten nur im Vorverkauf! \nEintritt 10 € \n18:30 Uhr – Einlass\n19:00 Uhr – Beginn
URL:https://www.st-hubertus-herne.de/event/koenigsball-bsv-bochum-gerthe/
LOCATION:Gasthaus Goeke\, Josefinenstraße 65\, Bochum\, 44807
CATEGORIES:Königsball,Tradition
ATTACH;FMTTYPE=image/png:https://www.st-hubertus-herne.de/wordpress/wp-content/uploads/bilder/termine/gerthe_logo.png
END:VEVENT
END:VCALENDAR