BEGIN:VCALENDAR
VERSION:2.0
PRODID:-//Schützenverein St. Hubertus Sodingen-Börnig 1926 e.V. - ECPv5.16.1.1//NONSGML v1.0//EN
CALSCALE:GREGORIAN
METHOD:PUBLISH
X-WR-CALNAME:Schützenverein St. Hubertus Sodingen-Börnig 1926 e.V.
X-ORIGINAL-URL:https://www.st-hubertus-herne.de
X-WR-CALDESC:Veranstaltungen für Schützenverein St. Hubertus Sodingen-Börnig 1926 e.V.
BEGIN:VTIMEZONE
TZID:Europe/Berlin
BEGIN:DAYLIGHT
TZOFFSETFROM:+0100
TZOFFSETTO:+0200
TZNAME:CEST
DTSTART:20240331T010000
END:DAYLIGHT
BEGIN:STANDARD
TZOFFSETFROM:+0200
TZOFFSETTO:+0100
TZNAME:CET
DTSTART:20241027T010000
END:STANDARD
END:VTIMEZONE
BEGIN:VEVENT
DTSTART;TZID=Europe/Berlin:20240114T150000
DTEND;TZID=Europe/Berlin:20240114T150000
DTSTAMP:20260424T180729
CREATED:20231130T061445Z
LAST-MODIFIED:20231130T061445Z
UID:2685-1705244400-1705244400@www.st-hubertus-herne.de
SUMMARY:Ketten- und Fahnenschießen 2024
DESCRIPTION:
URL:https://www.st-hubertus-herne.de/event/ketten-und-fahnenschiessen-2024/
CATEGORIES:Sport,Tradition
END:VEVENT
END:VCALENDAR