BEGIN:VCALENDAR
VERSION:2.0
PRODID:-//Schützenverein St. Hubertus Sodingen-Börnig 1926 e.V. - ECPv5.16.1.1//NONSGML v1.0//EN
CALSCALE:GREGORIAN
METHOD:PUBLISH
X-WR-CALNAME:Schützenverein St. Hubertus Sodingen-Börnig 1926 e.V.
X-ORIGINAL-URL:https://www.st-hubertus-herne.de
X-WR-CALDESC:Veranstaltungen für Schützenverein St. Hubertus Sodingen-Börnig 1926 e.V.
BEGIN:VTIMEZONE
TZID:Europe/Berlin
BEGIN:DAYLIGHT
TZOFFSETFROM:+0100
TZOFFSETTO:+0200
TZNAME:CEST
DTSTART:20250330T010000
END:DAYLIGHT
BEGIN:STANDARD
TZOFFSETFROM:+0200
TZOFFSETTO:+0100
TZNAME:CET
DTSTART:20251026T010000
END:STANDARD
END:VTIMEZONE
BEGIN:VEVENT
DTSTART;TZID=Europe/Berlin:20250705T180000
DTEND;TZID=Europe/Berlin:20250705T180000
DTSTAMP:20260424T150433
CREATED:20250704T120555Z
LAST-MODIFIED:20250704T123159Z
UID:4141-1751738400-1751738400@www.st-hubertus-herne.de
SUMMARY:Kaiserball SV „Treue Kameradschaft“ Bochum – Laer 1951 e.V.
DESCRIPTION:Wann ? 05.07.2025\nUhrzeit? 18 Uhr Empfang + Einlass\n19 Uhr Beginn\nEintritt? Erwachsene ab 16 J. 5€\nKinder Eintritt Frei
URL:https://www.st-hubertus-herne.de/event/kaiserball-sv-treue-kameradschaft-bochum-laer-1951-e-v/
LOCATION:Gemeindehaus Hölterweg\, Hölterweg 2\, Bochum\, 44894
CATEGORIES:Königsball,Krönungsball,Schützenfest,Tradition
END:VEVENT
END:VCALENDAR