BEGIN:VCALENDAR
VERSION:2.0
PRODID:-//Schützenverein St. Hubertus Sodingen-Börnig 1926 e.V. - ECPv5.16.1.1//NONSGML v1.0//EN
CALSCALE:GREGORIAN
METHOD:PUBLISH
X-WR-CALNAME:Schützenverein St. Hubertus Sodingen-Börnig 1926 e.V.
X-ORIGINAL-URL:https://www.st-hubertus-herne.de
X-WR-CALDESC:Veranstaltungen für Schützenverein St. Hubertus Sodingen-Börnig 1926 e.V.
BEGIN:VTIMEZONE
TZID:Europe/Berlin
BEGIN:DAYLIGHT
TZOFFSETFROM:+0100
TZOFFSETTO:+0200
TZNAME:CEST
DTSTART:20220327T010000
END:DAYLIGHT
BEGIN:STANDARD
TZOFFSETFROM:+0200
TZOFFSETTO:+0100
TZNAME:CET
DTSTART:20221030T010000
END:STANDARD
END:VTIMEZONE
BEGIN:VEVENT
DTSTART;TZID=Europe/Berlin:20220618T180000
DTEND;TZID=Europe/Berlin:20220618T180000
DTSTAMP:20260424T224235
CREATED:20220609T165233Z
LAST-MODIFIED:20220618T080320Z
UID:2444-1655575200-1655575200@www.st-hubertus-herne.de
SUMMARY:Kaiserball 125 Jahre BSV Kirchlinde
DESCRIPTION:Treffen 18:00 Uhr in Uniform
URL:https://www.st-hubertus-herne.de/event/kaiserball-125-jahre-bsv-kirchlinde/
LOCATION:BSV Kirchlinde\, Bärenbruch 122\, Dortmund\, 44379
CATEGORIES:Königsball,Tradition
ATTACH;FMTTYPE=image/png:https://www.st-hubertus-herne.de/wordpress/wp-content/uploads/bilder/termine/kirchlinde_logo.png
END:VEVENT
END:VCALENDAR