BEGIN:VCALENDAR
VERSION:2.0
PRODID:-//Schützenverein St. Hubertus Sodingen-Börnig 1926 e.V. - ECPv5.16.1.1//NONSGML v1.0//EN
CALSCALE:GREGORIAN
METHOD:PUBLISH
X-WR-CALNAME:Schützenverein St. Hubertus Sodingen-Börnig 1926 e.V.
X-ORIGINAL-URL:https://www.st-hubertus-herne.de
X-WR-CALDESC:Veranstaltungen für Schützenverein St. Hubertus Sodingen-Börnig 1926 e.V.
BEGIN:VTIMEZONE
TZID:Europe/Berlin
BEGIN:DAYLIGHT
TZOFFSETFROM:+0100
TZOFFSETTO:+0200
TZNAME:CEST
DTSTART:20200329T010000
END:DAYLIGHT
BEGIN:STANDARD
TZOFFSETFROM:+0200
TZOFFSETTO:+0100
TZNAME:CET
DTSTART:20201025T010000
END:STANDARD
END:VTIMEZONE
BEGIN:VEVENT
DTSTART;TZID=Europe/Berlin:20200119T150000
DTEND;TZID=Europe/Berlin:20200119T150000
DTSTAMP:20260424T133839
CREATED:20191230T082519Z
LAST-MODIFIED:20200106T213308Z
UID:2140-1579446000-1579446000@www.st-hubertus-herne.de
SUMMARY:Jahreshauptversammlung St. Hubertus
DESCRIPTION:Jahreshauptversammlung mit Kaffee und Kuchen
URL:https://www.st-hubertus-herne.de/event/jahreshauptversammlung-st-hubertus/
LOCATION:Vereinsheim des BSV Holthausen\, Holthauser Straße 288\, Herne\, 44627
ATTACH;FMTTYPE=image/png:https://www.st-hubertus-herne.de/wordpress/wp-content/uploads/bilder/termine/hubertus_logo.png
END:VEVENT
END:VCALENDAR