BEGIN:VCALENDAR
VERSION:2.0
PRODID:-//Schützenverein St. Hubertus Sodingen-Börnig 1926 e.V. - ECPv5.16.1.1//NONSGML v1.0//EN
CALSCALE:GREGORIAN
METHOD:PUBLISH
X-WR-CALNAME:Schützenverein St. Hubertus Sodingen-Börnig 1926 e.V.
X-ORIGINAL-URL:https://www.st-hubertus-herne.de
X-WR-CALDESC:Veranstaltungen für Schützenverein St. Hubertus Sodingen-Börnig 1926 e.V.
BEGIN:VTIMEZONE
TZID:Europe/Berlin
BEGIN:DAYLIGHT
TZOFFSETFROM:+0100
TZOFFSETTO:+0200
TZNAME:CEST
DTSTART:20190331T010000
END:DAYLIGHT
BEGIN:STANDARD
TZOFFSETFROM:+0200
TZOFFSETTO:+0100
TZNAME:CET
DTSTART:20191027T010000
END:STANDARD
END:VTIMEZONE
BEGIN:VEVENT
DTSTART;VALUE=DATE:20191109
DTEND;VALUE=DATE:20191111
DTSTAMP:20260424T163535
CREATED:20190409T192514Z
LAST-MODIFIED:20200106T225745Z
UID:448-1573275600-1573361999@www.st-hubertus-herne.de
SUMMARY:Hubertusfest mit Königsball
DESCRIPTION:Das Hubertusfest wird jährlich zu Ehren des Schutzpatrons der Schützen und Jäger veranstaltet. \nBei dieser Veranstaltung stehen sowohl die Tradition als auch das gemeinsame Beisammensein und Spaß haben im Mittelpunkt.
URL:https://www.st-hubertus-herne.de/event/hubertusfest-mit-koenigsball/
LOCATION:Vereinsheim des BSV Holthausen\, Holthauser Straße 288\, Herne\, 44627
CATEGORIES:Königsball,Tradition
ATTACH;FMTTYPE=image/png:https://www.st-hubertus-herne.de/wordpress/wp-content/uploads/bilder/termine/hubertus_logo.png
END:VEVENT
END:VCALENDAR