BEGIN:VCALENDAR
VERSION:2.0
PRODID:-//Schützenverein St. Hubertus Sodingen-Börnig 1926 e.V. - ECPv5.16.1.1//NONSGML v1.0//EN
CALSCALE:GREGORIAN
METHOD:PUBLISH
X-WR-CALNAME:Schützenverein St. Hubertus Sodingen-Börnig 1926 e.V.
X-ORIGINAL-URL:https://www.st-hubertus-herne.de
X-WR-CALDESC:Veranstaltungen für Schützenverein St. Hubertus Sodingen-Börnig 1926 e.V.
BEGIN:VTIMEZONE
TZID:Europe/Berlin
BEGIN:DAYLIGHT
TZOFFSETFROM:+0100
TZOFFSETTO:+0200
TZNAME:CEST
DTSTART:20200329T010000
END:DAYLIGHT
BEGIN:STANDARD
TZOFFSETFROM:+0200
TZOFFSETTO:+0100
TZNAME:CET
DTSTART:20201025T010000
END:STANDARD
END:VTIMEZONE
BEGIN:VEVENT
DTSTART;VALUE=DATE:20200328
DTEND;VALUE=DATE:20200330
DTSTAMP:20260424T234008
CREATED:20200106T214049Z
LAST-MODIFIED:20200313T224854Z
UID:2178-1585371600-1585457999@www.st-hubertus-herne.de
SUMMARY:Abgesagt - Frühlingsfest Bochum-Hamme
DESCRIPTION:Interessierte Mitglieder sind eingeladen\, an dieser Veranstaltung teilzunehmen. \n– inoffizieller Termin  –
URL:https://www.st-hubertus-herne.de/event/fruehlingsfest-bochum-hamme/
LOCATION:Gemeindesaal Bochum-Hamme\, Dorstener Straße 187 a\, Bochum\, 44809\, Deutschland
CATEGORIES:Tradition
END:VEVENT
END:VCALENDAR