BEGIN:VCALENDAR
VERSION:2.0
PRODID:-//Schützenverein St. Hubertus Sodingen-Börnig 1926 e.V. - ECPv5.16.1.1//NONSGML v1.0//EN
CALSCALE:GREGORIAN
METHOD:PUBLISH
X-WR-CALNAME:Schützenverein St. Hubertus Sodingen-Börnig 1926 e.V.
X-ORIGINAL-URL:https://www.st-hubertus-herne.de
X-WR-CALDESC:Veranstaltungen für Schützenverein St. Hubertus Sodingen-Börnig 1926 e.V.
BEGIN:VTIMEZONE
TZID:Europe/Berlin
BEGIN:DAYLIGHT
TZOFFSETFROM:+0100
TZOFFSETTO:+0200
TZNAME:CEST
DTSTART:20230326T010000
END:DAYLIGHT
BEGIN:STANDARD
TZOFFSETFROM:+0200
TZOFFSETTO:+0100
TZNAME:CET
DTSTART:20231029T010000
END:STANDARD
END:VTIMEZONE
BEGIN:VEVENT
DTSTART;TZID=Europe/Berlin:20230826T203000
DTEND;TZID=Europe/Berlin:20230826T203000
DTSTAMP:20260424T192844
CREATED:20230620T201949Z
LAST-MODIFIED:20230807T234153Z
UID:2552-1693081800-1693081800@www.st-hubertus-herne.de
SUMMARY:Fackelzug
DESCRIPTION:Weitere Informationen zum Fackelzug: HIER
URL:https://www.st-hubertus-herne.de/event/fackelzug/
LOCATION:Kath. Friedhof Widumer Str.\, Widumer Straße\, Herne\, Nordrhein-Westfalen\, 44627\, Deutschland
CATEGORIES:Schützenfest,Tradition
ATTACH;FMTTYPE=image/png:https://www.st-hubertus-herne.de/wordpress/wp-content/uploads/bilder/termine/hubertus_logo.png
END:VEVENT
END:VCALENDAR