BEGIN:VCALENDAR
VERSION:2.0
PRODID:-//Schützenverein St. Hubertus Sodingen-Börnig 1926 e.V. - ECPv5.16.1.1//NONSGML v1.0//EN
CALSCALE:GREGORIAN
METHOD:PUBLISH
X-WR-CALNAME:Schützenverein St. Hubertus Sodingen-Börnig 1926 e.V.
X-ORIGINAL-URL:https://www.st-hubertus-herne.de
X-WR-CALDESC:Veranstaltungen für Schützenverein St. Hubertus Sodingen-Börnig 1926 e.V.
BEGIN:VTIMEZONE
TZID:Europe/Berlin
BEGIN:DAYLIGHT
TZOFFSETFROM:+0100
TZOFFSETTO:+0200
TZNAME:CEST
DTSTART:20190331T010000
END:DAYLIGHT
BEGIN:STANDARD
TZOFFSETFROM:+0200
TZOFFSETTO:+0100
TZNAME:CET
DTSTART:20191027T010000
END:STANDARD
END:VTIMEZONE
BEGIN:VEVENT
DTSTART;VALUE=DATE:20190822
DTEND;VALUE=DATE:20190904
DTSTAMP:20260425T034910
CREATED:20190409T223428Z
LAST-MODIFIED:20190409T223702Z
UID:518-1566450000-1567486799@www.st-hubertus-herne.de
SUMMARY:DM 2019 Sportschießen
DESCRIPTION:Deutsche Meisterschaft 2019\nStartzeiten folgen.
URL:https://www.st-hubertus-herne.de/event/dm-2019-sportschiessen/
LOCATION:Olympiaschießanlage München\, Ingolstädter Landstraße 110\, Garching-Hochbrück\, 85748
CATEGORIES:Deutsche Meisterschaft,Meisterschaft,Sport
ATTACH;FMTTYPE=image/jpeg:https://www.st-hubertus-herne.de/wordpress/wp-content/uploads/bilder/termine/dsb_logo.jpg
END:VEVENT
END:VCALENDAR