BEGIN:VCALENDAR
VERSION:2.0
PRODID:-//Schützenverein St. Hubertus Sodingen-Börnig 1926 e.V. - ECPv5.16.1.1//NONSGML v1.0//EN
CALSCALE:GREGORIAN
METHOD:PUBLISH
X-WR-CALNAME:Schützenverein St. Hubertus Sodingen-Börnig 1926 e.V.
X-ORIGINAL-URL:https://www.st-hubertus-herne.de
X-WR-CALDESC:Veranstaltungen für Schützenverein St. Hubertus Sodingen-Börnig 1926 e.V.
BEGIN:VTIMEZONE
TZID:Europe/Berlin
BEGIN:DAYLIGHT
TZOFFSETFROM:+0100
TZOFFSETTO:+0200
TZNAME:CEST
DTSTART:20190331T010000
END:DAYLIGHT
BEGIN:STANDARD
TZOFFSETFROM:+0200
TZOFFSETTO:+0100
TZNAME:CET
DTSTART:20191027T010000
END:STANDARD
END:VTIMEZONE
BEGIN:VEVENT
DTSTART;VALUE=DATE:20191025
DTEND;VALUE=DATE:20191029
DTSTAMP:20260424T205851
CREATED:20190409T222547Z
LAST-MODIFIED:20190409T223204Z
UID:513-1571979600-1572238799@www.st-hubertus-herne.de
SUMMARY:DM 2019 Auflage - Luftgewehr
DESCRIPTION:Deutsche Meisterschaft 2019 – Luftgewehr-Auflage\nStartzeiten folgen.
URL:https://www.st-hubertus-herne.de/event/dm-2019-luftgewehr-auflage/
LOCATION:LLZ Dortmund\, Eberstraße 30\, Dortmund\, 44145
CATEGORIES:Deutsche Meisterschaft,Meisterschaft,Sport
ATTACH;FMTTYPE=image/jpeg:https://www.st-hubertus-herne.de/wordpress/wp-content/uploads/bilder/termine/dsb_logo.jpg
END:VEVENT
END:VCALENDAR