BEGIN:VCALENDAR
VERSION:2.0
PRODID:-//Schützenverein St. Hubertus Sodingen-Börnig 1926 e.V. - ECPv5.16.1.1//NONSGML v1.0//EN
CALSCALE:GREGORIAN
METHOD:PUBLISH
X-WR-CALNAME:Schützenverein St. Hubertus Sodingen-Börnig 1926 e.V.
X-ORIGINAL-URL:https://www.st-hubertus-herne.de
X-WR-CALDESC:Veranstaltungen für Schützenverein St. Hubertus Sodingen-Börnig 1926 e.V.
BEGIN:VTIMEZONE
TZID:Europe/Berlin
BEGIN:DAYLIGHT
TZOFFSETFROM:+0100
TZOFFSETTO:+0200
TZNAME:CEST
DTSTART:20190331T010000
END:DAYLIGHT
BEGIN:STANDARD
TZOFFSETFROM:+0200
TZOFFSETTO:+0100
TZNAME:CET
DTSTART:20191027T010000
END:STANDARD
END:VTIMEZONE
BEGIN:VEVENT
DTSTART;TZID=Europe/Berlin:20190803T093000
DTEND;TZID=Europe/Berlin:20190803T093000
DTSTAMP:20260425T034900
CREATED:20190616T131938Z
LAST-MODIFIED:20190730T133419Z
UID:1467-1564824600-1564824600@www.st-hubertus-herne.de
SUMMARY:Cranger-Kirmes-Umzug
DESCRIPTION:Sei Crange! – Das ist das diesjährige Motto des Cranger-Kirmes-Umzugs. \nWir nehmen dies an und sind dabei! \nTragt euch bitte in die Liste im Vereinheim ein\, falls ihr Lust auf gute Stimmung und bis zu 100.000 Zuschauer habt! \nBitte erscheint\, falls möglich\, mit heller Hose und Vereins-Shirt. Alternativ bitte mit einfarbigem\, buntem T-Shirt.
URL:https://www.st-hubertus-herne.de/event/cranger-kirmes-umzug/
LOCATION:Norma (Treffpunkt)\, Eickeler Str. 15\, Herne\, 44651
CATEGORIES:Jugend,Tradition
ATTACH;FMTTYPE=image/png:https://www.st-hubertus-herne.de/wordpress/wp-content/uploads/bilder/termine/stadt_herne_logo.png
END:VEVENT
END:VCALENDAR