BEGIN:VCALENDAR
VERSION:2.0
PRODID:-//Schützenverein St. Hubertus Sodingen-Börnig 1926 e.V. - ECPv5.16.1.1//NONSGML v1.0//EN
CALSCALE:GREGORIAN
METHOD:PUBLISH
X-WR-CALNAME:Schützenverein St. Hubertus Sodingen-Börnig 1926 e.V.
X-ORIGINAL-URL:https://www.st-hubertus-herne.de
X-WR-CALDESC:Veranstaltungen für Schützenverein St. Hubertus Sodingen-Börnig 1926 e.V.
BEGIN:VTIMEZONE
TZID:Europe/Berlin
BEGIN:DAYLIGHT
TZOFFSETFROM:+0100
TZOFFSETTO:+0200
TZNAME:CEST
DTSTART:20250330T010000
END:DAYLIGHT
BEGIN:STANDARD
TZOFFSETFROM:+0200
TZOFFSETTO:+0100
TZNAME:CET
DTSTART:20251026T010000
END:STANDARD
END:VTIMEZONE
BEGIN:VEVENT
DTSTART;TZID=Europe/Berlin:20250830T110000
DTEND;TZID=Europe/Berlin:20250830T180000
DTSTAMP:20260424T150234
CREATED:20250709T073545Z
LAST-MODIFIED:20250709T073545Z
UID:4536-1756551600-1756576800@www.st-hubertus-herne.de
SUMMARY:Constantiner Wiesenfest
DESCRIPTION:
URL:https://www.st-hubertus-herne.de/event/constantiner-wiesenfest/
LOCATION:Kronenstraße\, Herne\, Kronenstraße 27\, Herne\, Nordrhein-Westfalen\, 44625\, Germany
CATEGORIES:Jugend,Sport
END:VEVENT
END:VCALENDAR