BEGIN:VCALENDAR
VERSION:2.0
PRODID:-//Schützenverein St. Hubertus Sodingen-Börnig 1926 e.V. - ECPv5.16.1.1//NONSGML v1.0//EN
CALSCALE:GREGORIAN
METHOD:PUBLISH
X-WR-CALNAME:Schützenverein St. Hubertus Sodingen-Börnig 1926 e.V.
X-ORIGINAL-URL:https://www.st-hubertus-herne.de
X-WR-CALDESC:Veranstaltungen für Schützenverein St. Hubertus Sodingen-Börnig 1926 e.V.
BEGIN:VTIMEZONE
TZID:Europe/Berlin
BEGIN:DAYLIGHT
TZOFFSETFROM:+0100
TZOFFSETTO:+0200
TZNAME:CEST
DTSTART:20190331T010000
END:DAYLIGHT
BEGIN:STANDARD
TZOFFSETFROM:+0200
TZOFFSETTO:+0100
TZNAME:CET
DTSTART:20191027T010000
END:STANDARD
END:VTIMEZONE
BEGIN:VEVENT
DTSTART;TZID=Europe/Berlin:20191026T190000
DTEND;TZID=Europe/Berlin:20191026T235900
DTSTAMP:20260424T193151
CREATED:20190409T193906Z
LAST-MODIFIED:20190617T090119Z
UID:456-1572116400-1572134340@www.st-hubertus-herne.de
SUMMARY:Bezirksschützenball
DESCRIPTION:
URL:https://www.st-hubertus-herne.de/event/bezirksschuetzenball/
LOCATION:Gemeindehaus Hölterweg\, Hölterweg 2\, Bochum\, 44894
CATEGORIES:Königsball,Tradition
ATTACH;FMTTYPE=image/jpeg:https://www.st-hubertus-herne.de/wordpress/wp-content/uploads/bilder/termine/bezirk_2000_logo.jpg
END:VEVENT
END:VCALENDAR