BEGIN:VCALENDAR
VERSION:2.0
PRODID:-//Schützenverein St. Hubertus Sodingen-Börnig 1926 e.V. - ECPv5.16.1.1//NONSGML v1.0//EN
CALSCALE:GREGORIAN
METHOD:PUBLISH
X-WR-CALNAME:Schützenverein St. Hubertus Sodingen-Börnig 1926 e.V.
X-ORIGINAL-URL:https://www.st-hubertus-herne.de
X-WR-CALDESC:Veranstaltungen für Schützenverein St. Hubertus Sodingen-Börnig 1926 e.V.
BEGIN:VTIMEZONE
TZID:Europe/Berlin
BEGIN:DAYLIGHT
TZOFFSETFROM:+0100
TZOFFSETTO:+0200
TZNAME:CEST
DTSTART:20200329T010000
END:DAYLIGHT
BEGIN:STANDARD
TZOFFSETFROM:+0200
TZOFFSETTO:+0100
TZNAME:CET
DTSTART:20201025T010000
END:STANDARD
END:VTIMEZONE
BEGIN:VEVENT
DTSTART;VALUE=DATE:20200229
DTEND;VALUE=DATE:20200303
DTSTAMP:20260424T180622
CREATED:20200106T214625Z
LAST-MODIFIED:20200106T214625Z
UID:2170-1582952400-1583125199@www.st-hubertus-herne.de
SUMMARY:Bezirksmeisterschaft 2020 - LG / LP
DESCRIPTION:Bezirksmeisterschaft 2020 – LG / LP\nStartzeiten folgen.
URL:https://www.st-hubertus-herne.de/event/bezirksmeisterschaft-2020-lg-lp/
LOCATION:Sportpark Herne-Wanne\, Im Sportpark 20\, Herne\, 44652
CATEGORIES:Meisterschaft,Sport
ATTACH;FMTTYPE=image/jpeg:https://www.st-hubertus-herne.de/wordpress/wp-content/uploads/bilder/termine/bezirk_2000_logo.jpg
END:VEVENT
END:VCALENDAR