BEGIN:VCALENDAR
VERSION:2.0
PRODID:-//Schützenverein St. Hubertus Sodingen-Börnig 1926 e.V. - ECPv5.16.1.1//NONSGML v1.0//EN
CALSCALE:GREGORIAN
METHOD:PUBLISH
X-WR-CALNAME:Schützenverein St. Hubertus Sodingen-Börnig 1926 e.V.
X-ORIGINAL-URL:https://www.st-hubertus-herne.de
X-WR-CALDESC:Veranstaltungen für Schützenverein St. Hubertus Sodingen-Börnig 1926 e.V.
BEGIN:VTIMEZONE
TZID:Europe/Berlin
BEGIN:DAYLIGHT
TZOFFSETFROM:+0100
TZOFFSETTO:+0200
TZNAME:CEST
DTSTART:20190331T010000
END:DAYLIGHT
BEGIN:STANDARD
TZOFFSETFROM:+0200
TZOFFSETTO:+0100
TZNAME:CET
DTSTART:20191027T010000
END:STANDARD
END:VTIMEZONE
BEGIN:VEVENT
DTSTART;TZID=Europe/Berlin:20190706T130000
DTEND;TZID=Europe/Berlin:20190706T130000
DTSTAMP:20260425T040252
CREATED:20190409T221416Z
LAST-MODIFIED:20190703T173935Z
UID:507-1562418000-1562418000@www.st-hubertus-herne.de
SUMMARY:Abdankungsball BSV Holthausen
DESCRIPTION:Kranzniederlegung\nHolthauser Friedhof\nBeginn 13:00 Uhr \nEhrenscheiben-Schießen\nVereinsheim des BSV Holthausen\nBeginn 14:30 Uhr \nAbdankungsball\nVereinsheim des BSV Holthausen\nEinlass 18:00 Uhr
URL:https://www.st-hubertus-herne.de/event/abdankungsball-bsv-holthausen/
LOCATION:Vereinsheim des BSV Holthausen\, Holthauser Straße 288\, Herne\, 44627
CATEGORIES:Königsball,Tradition
ATTACH;FMTTYPE=image/png:https://www.st-hubertus-herne.de/wordpress/wp-content/uploads/bilder/termine/holthausen_logo.png
END:VEVENT
END:VCALENDAR